View In:
ArcGIS JavaScript
ArcGIS Online Map Viewer
ArcGIS Earth
ArcMap
View Footprint In:
ArcGIS Online Map Viewer
Service Description: Johnson1890Map
Name: Johnson1890Map
Description:
Single Fused Map Cache: false
Extent:
XMin: 1537530.965668772
YMin: 628454.9793479948
XMax: 1697647.366833772
YMax: 859055.7055289948
Spatial Reference: 102719
(2264)
Initial Extent:
XMin: 1537530.965668772
YMin: 628454.9793479948
XMax: 1697647.366833772
YMax: 859055.7055289948
Spatial Reference: 102719
(2264)
Full Extent:
XMin: 1537530.965668772
YMin: 628454.9793479948
XMax: 1697647.366833772
YMax: 859055.7055289948
Spatial Reference: 102719
(2264)
Pixel Size X: 18.39361299999999
Pixel Size Y: 18.393613000000002
Band Count: 3
Pixel Type: U16
RasterFunction Infos: {"rasterFunctionInfos": [{
"name": "None",
"description": "",
"help": ""
}]}
Mensuration Capabilities: Basic
Has Histograms: true
Has Colormap: false
Has Multi Dimensions : false
Rendering Rule:
Min Scale: 0
Max Scale: 0
Copyright Text:
Service Data Type: esriImageServiceDataTypeGeneric
Min Values: 29, 21, 1
Max Values: 255, 255, 255
Mean Values: 210.12143877821, 181.02317529809, 141.75466801736
Standard Deviation Values: 36.634233325566, 32.908730840446, 29.210909072628
Object ID Field:
Fields:
None
Default Mosaic Method: Center
Allowed Mosaic Methods:
SortField:
SortValue: null
Mosaic Operator: First
Default Compression Quality: 75
Default Resampling Method: Bilinear
Max Record Count: null
Max Image Height: 4100
Max Image Width: 15000
Max Download Image Count: null
Max Mosaic Image Count: null
Allow Raster Function: true
Allow Copy: null
Allow Analysis: null
Allow Compute TiePoints: false
Supports Statistics: false
Supports Advanced Queries: false
Use StandardizedQueries: true
Raster Type Infos:
Name: Raster Dataset
Description: Supports all ArcGIS Raster Datasets
Help:
Has Raster Attribute Table: false
Edit Fields Info: null
Ownership Based AccessControl For Rasters: null
Child Resources:
Info
Histograms
Key Properties
Legend
Raster Function Infos
Supported Operations:
Export Image
Identify
Measure
Compute Histograms
Compute Statistics Histograms
Get Samples
Compute Class Statistics
Query Boundary
Compute Pixel Location
Validate
Project